BEGIN:VCALENDAR
VERSION:2.0
PRODID:-//Coco's on the Beach - ECPv6.15.20//NONSGML v1.0//EN
CALSCALE:GREGORIAN
METHOD:PUBLISH
X-WR-CALNAME:Coco's on the Beach
X-ORIGINAL-URL:https://cocosonthebeach.com.au
X-WR-CALDESC:Events for Coco's on the Beach
REFRESH-INTERVAL;VALUE=DURATION:PT1H
X-Robots-Tag:noindex
X-PUBLISHED-TTL:PT1H
BEGIN:VTIMEZONE
TZID:Australia/Sydney
BEGIN:STANDARD
TZOFFSETFROM:+1100
TZOFFSETTO:+1000
TZNAME:AEST
DTSTART:20240406T160000
END:STANDARD
BEGIN:DAYLIGHT
TZOFFSETFROM:+1000
TZOFFSETTO:+1100
TZNAME:AEDT
DTSTART:20241005T160000
END:DAYLIGHT
BEGIN:STANDARD
TZOFFSETFROM:+1100
TZOFFSETTO:+1000
TZNAME:AEST
DTSTART:20250405T160000
END:STANDARD
BEGIN:DAYLIGHT
TZOFFSETFROM:+1000
TZOFFSETTO:+1100
TZNAME:AEDT
DTSTART:20251004T160000
END:DAYLIGHT
BEGIN:STANDARD
TZOFFSETFROM:+1100
TZOFFSETTO:+1000
TZNAME:AEST
DTSTART:20260404T160000
END:STANDARD
BEGIN:DAYLIGHT
TZOFFSETFROM:+1000
TZOFFSETTO:+1100
TZNAME:AEDT
DTSTART:20261003T160000
END:DAYLIGHT
BEGIN:STANDARD
TZOFFSETFROM:+1100
TZOFFSETTO:+1000
TZNAME:AEST
DTSTART:20270403T160000
END:STANDARD
BEGIN:DAYLIGHT
TZOFFSETFROM:+1000
TZOFFSETTO:+1100
TZNAME:AEDT
DTSTART:20271002T160000
END:DAYLIGHT
BEGIN:STANDARD
TZOFFSETFROM:+1100
TZOFFSETTO:+1000
TZNAME:AEST
DTSTART:20280401T160000
END:STANDARD
BEGIN:DAYLIGHT
TZOFFSETFROM:+1000
TZOFFSETTO:+1100
TZNAME:AEDT
DTSTART:20280930T160000
END:DAYLIGHT
END:VTIMEZONE
BEGIN:VEVENT
DTSTART;VALUE=DATE:20250204
DTEND;VALUE=DATE:20260701
DTSTAMP:20260420T110601
CREATED:20260216T053520Z
LAST-MODIFIED:20260301T231052Z
UID:10000017-1738688400-1782846000@cocosonthebeach.com.au
SUMMARY:$50 Wings & Towers Daily
DESCRIPTION:Available Monday – Sunday | 12:00PM – 10:00PM \nDig in to $50 Wings & Towers at Coco’s on the Beach with Live Sport and Pool served daily. Enjoy 1/2 Crispy Chicken Wings and 2.5LTower of Carlton Draught or Great Northern Super Crisp. \nCoco’s practises the responsible service of alcohol. T&Cs apply.
URL:https://cocosonthebeach.com.au/event/50-wings-towers-daily/
CATEGORIES:Specials
ATTACH;FMTTYPE=image/jpeg:https://cocosonthebeach.com.au/wp-content/uploads/2026/02/Wings-Towers-2026_Tile-1.jpg
END:VEVENT
BEGIN:VEVENT
DTSTART;TZID=Australia/Sydney:20250411T080000
DTEND;TZID=Australia/Sydney:20270411T170000
DTSTAMP:20260420T110601
CREATED:20250411T010333Z
LAST-MODIFIED:20250422T054352Z
UID:10000008-1744358400-1807462800@cocosonthebeach.com.au
SUMMARY:Free Pool Mondays
DESCRIPTION:New Pool Tables Just Landed at Coco’s\nFresh felt\, smooth cues\, and the perfect excuse to challenge your mates. Pool’s now on at Coco’s—$3 per game and free all day Mondays.\nJust one rule: no drinks on the table. Play nice.
URL:https://cocosonthebeach.com.au/event/free-pool-mondays/
CATEGORIES:Specials
ATTACH;FMTTYPE=image/png:https://cocosonthebeach.com.au/wp-content/uploads/2025/04/free-pool.png
END:VEVENT
BEGIN:VEVENT
DTSTART;TZID=Australia/Sydney:20260329T010000
DTEND;TZID=Australia/Sydney:20270822T190000
DTSTAMP:20260420T110601
CREATED:20260324T233508Z
LAST-MODIFIED:20260329T214854Z
UID:10000019-1774746000-1818961200@cocosonthebeach.com.au
SUMMARY:Happy Hour
DESCRIPTION:Happy Hour at Coco’s\nMonday to Friday | 4PM – 6PM \nKnock-off drinks never looked this good. Join us weekdays from 4pm to 6pm for Happy Hour at Coco’s on the Beach. Enjoy $8 house pints\, $8 house wines\, and $12 Classic Margs from our selected menu. \nOur house beers include Carlton Tank\, Carlton Dry\, Great Northern\, Resches\, Tooheys New\, VB pint. No bookings needed – just slide in\, settle down\, and toast to the game. \nCoco’s practises the responsible service of alcohol. T&Cs apply.
URL:https://cocosonthebeach.com.au/event/happy-hours/
CATEGORIES:Specials
ATTACH;FMTTYPE=image/png:https://cocosonthebeach.com.au/wp-content/uploads/2026/03/Mon-Fri-4-6PM-1.png
END:VEVENT
END:VCALENDAR